BEGIN:VCALENDAR
VERSION:2.0
PRODID:-//hacksw/handcal//NONSGML v1.0//EN
CALSCALE:GREGORIAN
BEGIN:VEVENT
LOCATION:Facilities Center
DESCRIPTION:
DTSTART:20211110T143000Z
DTEND:20211110T163000Z
SUMMARY:West Nation Foldings (Cares)
URL;VALUE=URI:https://www.glenbardwesths.org/event/west-nation-foldings-cares-2/
DTSTAMP:20260423T195049Z
UID:69ea7819087b0
END:VEVENT
END:VCALENDAR