BEGIN:VCALENDAR
VERSION:2.0
PRODID:-//hacksw/handcal//NONSGML v1.0//EN
CALSCALE:GREGORIAN
BEGIN:VEVENT
LOCATION:Aud
DESCRIPTION:
DTSTART:20260423T003000Z
DTEND:20260423T020000Z
SUMMARY:Student Recognition Convo
URL;VALUE=URI:https://www.glenbardwesths.org/event/student-recognition-convo-8/
DTSTAMP:20260422T084155Z
UID:69e889d3e686b
END:VEVENT
END:VCALENDAR