BEGIN:VCALENDAR
VERSION:2.0
PRODID:-//hacksw/handcal//NONSGML v1.0//EN
CALSCALE:GREGORIAN
BEGIN:VEVENT
LOCATION:Fieldhouse & Gym
DESCRIPTION:
DTSTART:20260430T230000Z
DTEND:20260501T010000Z
SUMMARY:Spring Fling/Badminton
URL;VALUE=URI:https://www.glenbardwesths.org/event/spring-fling-badminton-2/
DTSTAMP:20260425T222221Z
UID:69ed3e9d1cf05
END:VEVENT
END:VCALENDAR