BEGIN:VCALENDAR
VERSION:2.0
PRODID:-//hacksw/handcal//NONSGML v1.0//EN
CALSCALE:GREGORIAN
BEGIN:VEVENT
LOCATION:Auditorium
DESCRIPTION:
DTSTART:20250218T201000Z
DTEND:20250218T230000Z
SUMMARY:Spring Comedy - Company Meeting & First Rehearsal
URL;VALUE=URI:https://www.glenbardwesths.org/event/spring-comedy-company-meeting-first-rehearsal/
DTSTAMP:20260420T091549Z
UID:69e5eec559afc
END:VEVENT
END:VCALENDAR