BEGIN:VCALENDAR
VERSION:2.0
PRODID:-//hacksw/handcal//NONSGML v1.0//EN
CALSCALE:GREGORIAN
BEGIN:VEVENT
LOCATION:First United Methodist Church of Glen Ellyn\, 424 Forest Ave\, Glen Ellyn\, IL 60137\, USA
DESCRIPTION:
DTSTART:20260430T003000Z
DTEND:20260430T020000Z
SUMMARY:Spring Choral Concert
URL;VALUE=URI:https://www.glenbardwesths.org/event/spring-choral-concert-10/
DTSTAMP:20260424T104234Z
UID:69eb491a7d03b
END:VEVENT
END:VCALENDAR