BEGIN:VCALENDAR
VERSION:2.0
PRODID:-//hacksw/handcal//NONSGML v1.0//EN
CALSCALE:GREGORIAN
BEGIN:VEVENT
LOCATION:Auditorium
DESCRIPTION:
DTSTART:20260424T003000Z
DTEND:20260424T030000Z
SUMMARY:Spring Band Concert
URL;VALUE=URI:https://www.glenbardwesths.org/event/spring-band-concert-16/
DTSTAMP:20260422T081801Z
UID:69e884399eee1
END:VEVENT
END:VCALENDAR