BEGIN:VCALENDAR
VERSION:2.0
PRODID:-//hacksw/handcal//NONSGML v1.0//EN
CALSCALE:GREGORIAN
BEGIN:VEVENT
LOCATION:
DESCRIPTION:
DTSTART:20260428T000000Z
DTEND:20260428T000000Z
SUMMARY:PLC - Student Early Dismissal at 2:23 p.m.
URL;VALUE=URI:https://www.glenbardwesths.org/event/plc-student-early-dismissal-at-223-p-m-70/
DTSTAMP:20260423T043325Z
UID:69e9a1159de04
END:VEVENT
END:VCALENDAR