BEGIN:VCALENDAR
VERSION:2.0
PRODID:-//hacksw/handcal//NONSGML v1.0//EN
CALSCALE:GREGORIAN
BEGIN:VEVENT
LOCATION:
DESCRIPTION:
DTSTART:20211108T185200Z
DTEND:20211108T185200Z
SUMMARY:PLC - Student Early Dismissal at 1:52 p.m.
URL;VALUE=URI:https://www.glenbardwesths.org/event/plc-student-early-dismissal-at-152-p-m-72/
DTSTAMP:20260424T090311Z
UID:69eb31cf6ebd7
END:VEVENT
END:VCALENDAR