BEGIN:VCALENDAR
VERSION:2.0
PRODID:-//hacksw/handcal//NONSGML v1.0//EN
CALSCALE:GREGORIAN
BEGIN:VEVENT
LOCATION:Auditorium
DESCRIPTION:
DTSTART:20260422T010000Z
DTEND:20260422T020000Z
SUMMARY:NHS Induction Ceremony
URL;VALUE=URI:https://www.glenbardwesths.org/event/nhs-induction-ceremony-8/
DTSTAMP:20260421T032356Z
UID:69e6edcc83802
END:VEVENT
END:VCALENDAR