BEGIN:VCALENDAR
VERSION:2.0
PRODID:-//hacksw/handcal//NONSGML v1.0//EN
CALSCALE:GREGORIAN
BEGIN:VEVENT
LOCATION:Library
DESCRIPTION:
DTSTART:20260424T134500Z
DTEND:20260424T143000Z
SUMMARY:Matter of Pride
URL;VALUE=URI:https://www.glenbardwesths.org/event/matter-of-pride-10/
DTSTAMP:20260422T081944Z
UID:69e884a05c361
END:VEVENT
END:VCALENDAR