BEGIN:VCALENDAR
VERSION:2.0
PRODID:-//hacksw/handcal//NONSGML v1.0//EN
CALSCALE:GREGORIAN
BEGIN:VEVENT
LOCATION:Duchon and Memorial
DESCRIPTION:
DTSTART:20220808T230000Z
DTEND:20220809T013000Z
SUMMARY:Marching Band Parent Performance 
URL;VALUE=URI:https://www.glenbardwesths.org/event/marching-band-parent-performance/
DTSTAMP:20260421T085942Z
UID:69e73c7e3b5b3
END:VEVENT
END:VCALENDAR