BEGIN:VCALENDAR
VERSION:2.0
PRODID:-//hacksw/handcal//NONSGML v1.0//EN
CALSCALE:GREGORIAN
BEGIN:VEVENT
LOCATION:
DESCRIPTION:
DTSTART:20250926T230000Z
DTEND:20250927T030000Z
SUMMARY:Homecoming Pep Rally & Bonfire
URL;VALUE=URI:https://www.glenbardwesths.org/event/homecoming-pep-rally-bonfire-4/
DTSTAMP:20260420T141841Z
UID:69e635c1850f3
END:VEVENT
END:VCALENDAR