BEGIN:VCALENDAR
VERSION:2.0
PRODID:-//hacksw/handcal//NONSGML v1.0//EN
CALSCALE:GREGORIAN
BEGIN:VEVENT
LOCATION:Glenbard West
DESCRIPTION:
DTSTART:20220924T160000Z
DTEND:20220924T170000Z
SUMMARY:Homecoming Alumni Tour
URL;VALUE=URI:https://www.glenbardwesths.org/event/homecoming-alumni-tour-7/
DTSTAMP:20260425T205825Z
UID:69ed2af1115ec
END:VEVENT
END:VCALENDAR