BEGIN:VCALENDAR
VERSION:2.0
PRODID:-//hacksw/handcal//NONSGML v1.0//EN
CALSCALE:GREGORIAN
BEGIN:VEVENT
LOCATION:Virtual
DESCRIPTION:
DTSTART:20250213T170000Z
DTEND:20250213T183000Z
SUMMARY:GPS - Digital Thriving: Technology and the Future of Happiness in a Hyperconnected World
URL;VALUE=URI:https://www.glenbardwesths.org/event/gps-the-future-of-happiness-habits-for-joy-engagement-and-connection-in-the-digital-age/
DTSTAMP:20260423T025156Z
UID:69e9894cd44b6
END:VEVENT
END:VCALENDAR