BEGIN:VCALENDAR
VERSION:2.0
PRODID:-//hacksw/handcal//NONSGML v1.0//EN
CALSCALE:GREGORIAN
BEGIN:VEVENT
LOCATION:Library
DESCRIPTION:
DTSTART:20260417T003000Z
DTEND:20260417T020000Z
SUMMARY:Glenbard West Boosters
URL;VALUE=URI:https://www.glenbardwesths.org/event/glenbard-west-boosters-16/
DTSTAMP:20260420T085630Z
UID:69e5ea3e9c534
END:VEVENT
END:VCALENDAR