BEGIN:VCALENDAR
VERSION:2.0
PRODID:-//hacksw/handcal//NONSGML v1.0//EN
CALSCALE:GREGORIAN
BEGIN:VEVENT
LOCATION:Marquardt Middle School Auditorium\, 1912 Glen Ellyn Rd\, Glendale Heights\, IL\, 60139
DESCRIPTION:
DTSTART:20191205T230000Z
DTEND:20191206T003000Z
SUMMARY:Find Your Future at College Night
URL;VALUE=URI:https://www.glenbardwesths.org/event/find-your-future-at-college-night/
DTSTAMP:20260421T010742Z
UID:69e6cdde0b0f2
END:VEVENT
END:VCALENDAR