BEGIN:VCALENDAR
VERSION:2.0
PRODID:-//hacksw/handcal//NONSGML v1.0//EN
CALSCALE:GREGORIAN
BEGIN:VEVENT
LOCATION:Facilities Center
DESCRIPTION:
DTSTART:20260304T143000Z
DTEND:20260304T160000Z
SUMMARY:Coffee Talk
URL;VALUE=URI:https://www.glenbardwesths.org/event/coffee-talk-4/
DTSTAMP:20260420T085751Z
UID:69e5ea8fc9fc8
END:VEVENT
END:VCALENDAR